BEGIN:VCALENDAR
VERSION:2.0
PRODID:Imitheme.com 
BEGIN:VEVENT
UID:20260421T222417963414405
DTSTAMP;TZID=UTC:2026-04-21 22:24:17
DTSTART;TZID=America/Los_Angeles:20260421T222417
DTEND;TZID=America/Los_Angeles:20260421T222417
SUMMARY:Children's Day
LOCATION:
DESCRIPTION:
URL:https://www.ponvidyashram.in/events/childrens-day/
END:VEVENT
END:VCALENDAR
